BEGIN:VCALENDAR
VERSION:2.0
PRODID:-//SBHE - ECPv6.5.1.4//NONSGML v1.0//EN
CALSCALE:GREGORIAN
METHOD:PUBLISH
X-WR-CALNAME:SBHE
X-ORIGINAL-URL:http://sbhe.org.br
X-WR-CALDESC:Eventos para SBHE
REFRESH-INTERVAL;VALUE=DURATION:PT1H
X-Robots-Tag:noindex
X-PUBLISHED-TTL:PT1H
BEGIN:VTIMEZONE
TZID:America/Sao_Paulo
BEGIN:STANDARD
TZOFFSETFROM:-0300
TZOFFSETTO:-0300
TZNAME:-03
DTSTART:20240101T000000
END:STANDARD
END:VTIMEZONE
BEGIN:VEVENT
DTSTART;TZID=America/Sao_Paulo:20240920T130000
DTEND;TZID=America/Sao_Paulo:20240920T170000
DTSTAMP:20260422T091640
CREATED:20240620T193103Z
LAST-MODIFIED:20240620T193103Z
UID:64-1726837200-1726851600@sbhe.org.br
SUMMARY:Harmony in the Park: A Community Music and Arts Festival
DESCRIPTION:Join us for a day of creative expression and community bonding at our annual Harmony in the Park festival! Featuring local musicians\, artists\, and crafters\, this event offers a platform for showcasing talent while fostering connections. From live performances to interactive art installations and workshops for all ages\, there’s something for everyone to enjoy. Bring your family and friends to experience the vibrant culture of our community in the beautiful setting of our local park.
URL:http://sbhe.org.br/event/harmony-in-the-park-a-community-music-and-arts-festival/
LOCATION:Harmony Park\, 112 Main St\, Missoula\, Montana\, United States
CATEGORIES:Community,Festival
ATTACH;FMTTYPE=image/jpeg:http://sbhe.org.br/wp-content/uploads/2024/06/white-earbuds-and-white-ipad.jpeg
ORGANIZER;CN="Community Outreach":MAILTO:info@communityoutreach.org
END:VEVENT
END:VCALENDAR